BEGIN:VCALENDAR
VERSION:2.0
PRODID:-//Telerik Inc.//NONSGML RadScheduler//EN
METHOD:PUBLISH
BEGIN:VEVENT
DTSTART:20210326T140000Z
DTEND:20210326T150000Z
UID:20210406T182504Z-
DTSTAMP:20210406T182504Z
LOCATION:   
SUMMARY:Sample Event Listing
DESCRIPTION:This is a description of your event.
END:VEVENT
END:VCALENDAR
